BEGIN:VCALENDAR
VERSION:2.0
PRODID:-//Iberville Parish Government - ECPv6.15.18//NONSGML v1.0//EN
CALSCALE:GREGORIAN
METHOD:PUBLISH
X-ORIGINAL-URL:https://ibervilleparish.com
X-WR-CALDESC:Events for Iberville Parish Government
REFRESH-INTERVAL;VALUE=DURATION:PT1H
X-Robots-Tag:noindex
X-PUBLISHED-TTL:PT1H
BEGIN:VTIMEZONE
TZID:America/Chicago
BEGIN:DAYLIGHT
TZOFFSETFROM:-0600
TZOFFSETTO:-0500
TZNAME:CDT
DTSTART:20230312T080000
END:DAYLIGHT
BEGIN:STANDARD
TZOFFSETFROM:-0500
TZOFFSETTO:-0600
TZNAME:CST
DTSTART:20231105T070000
END:STANDARD
BEGIN:DAYLIGHT
TZOFFSETFROM:-0600
TZOFFSETTO:-0500
TZNAME:CDT
DTSTART:20240310T080000
END:DAYLIGHT
BEGIN:STANDARD
TZOFFSETFROM:-0500
TZOFFSETTO:-0600
TZNAME:CST
DTSTART:20241103T070000
END:STANDARD
BEGIN:DAYLIGHT
TZOFFSETFROM:-0600
TZOFFSETTO:-0500
TZNAME:CDT
DTSTART:20250309T080000
END:DAYLIGHT
BEGIN:STANDARD
TZOFFSETFROM:-0500
TZOFFSETTO:-0600
TZNAME:CST
DTSTART:20251102T070000
END:STANDARD
END:VTIMEZONE
BEGIN:VEVENT
DTSTART;TZID=America/Chicago:20240918T190000
DTEND;TZID=America/Chicago:20240918T200000
DTSTAMP:20260419T090116
CREATED:20240904T163836Z
LAST-MODIFIED:20240912T221618Z
UID:2922-1726686000-1726689600@ibervilleparish.com
SUMMARY:Grosse Tete Community Meeting
DESCRIPTION:We invite all residents to attend an important community meeting on Wednesday\, September 18th\, from 7:00 PM to 8:00 PM at the Intracoastal Road Fire Department to discuss updates on the Grosse Tete Bridge. The meeting will be at the Intracoastal Rd Fire Station at 27550 Intracoastal Rd. Plaquemine\, LA 70764. \n\nLearn about updates on the Grosse Tete Bridge from Iberville Parish leaders. We look forward to your participation and valuable input!\n  \n 
URL:https://ibervilleparish.com/event/grosse-tete-community-meeting/
LOCATION:Intracoastal Rd. Fire Station\, 27550 Intracoastal Rd.\, Plaquemine\, LA\, 70764\, United States
ATTACH;FMTTYPE=image/png:https://ibervilleparish.com/wp-content/uploads/GT-Community-Meetings-SM-6.png
END:VEVENT
BEGIN:VEVENT
DTSTART;TZID=America/Chicago:20240725T180000
DTEND;TZID=America/Chicago:20240725T190000
DTSTAMP:20260419T090116
CREATED:20240712T155206Z
LAST-MODIFIED:20240712T155542Z
UID:2769-1721930400-1721934000@ibervilleparish.com
SUMMARY:Grosse Tete School Transportation Community Meeting
DESCRIPTION:Save the date for our Grosse Tete School Transportation Community Meeting!\n\n\n\n\n\n\nJoin us on Thursday\, July 25th\, at 6:00 PM at the Intracoastal Road Fire Station for an essential community meeting focused on school transportation plans for those crossing the Grosse Tete Bridge. Hear important updates about the upcoming school year and voice your concerns directly to representatives from Iberville Parish Schools and local leaders.\n\n\n\n\nYour participation and input are crucial. Together\, we can ensure our students a smooth and efficient transportation experience. We look forward to your participation and valuable input!
URL:https://ibervilleparish.com/event/grosse-tete-school-transportation-community-meeting/
LOCATION:Intracoastal Rd. Fire Station\, 27550 Intracoastal Rd.\, Plaquemine\, LA\, 70764\, United States
ATTACH;FMTTYPE=image/png:https://ibervilleparish.com/wp-content/uploads/Website-Homepage-Header-Images-6.png
END:VEVENT
BEGIN:VEVENT
DTSTART;TZID=America/Chicago:20240702T183000
DTEND;TZID=America/Chicago:20240702T200000
DTSTAMP:20260419T090116
CREATED:20240625T124737Z
LAST-MODIFIED:20240625T124737Z
UID:2719-1719945000-1719950400@ibervilleparish.com
SUMMARY:Community Meeting: Grosse Tete Bridge
DESCRIPTION:Join us on Tuesday\, July 2nd\, at the Bayou Blue Fire Department on Intracoastal Rd. from 6:30 PM to 8:00 PM for an important community meeting regarding the Grosse Tete Bridge.\n\n\n\nWe invite all residents to attend as we provide updates and address your concerns. This is a great opportunity to engage directly with representatives from the DOTD and Iberville Parish leaders.\n\n\n\nWe look forward to your participation and valuable input!
URL:https://ibervilleparish.com/event/community-meeting-grosse-tete-bridge/
LOCATION:Intracoastal Rd. Fire Station\, 27550 Intracoastal Rd.\, Plaquemine\, LA\, 70764\, United States
ATTACH;FMTTYPE=image/png:https://ibervilleparish.com/wp-content/uploads/Website-Homepage-Header-Images-5.png
END:VEVENT
END:VCALENDAR